BEGIN:VCALENDAR
VERSION:2.0
PRODID:-//Arrowhead Youth Soccer Association - ECPv6.15.0.1//NONSGML v1.0//EN
CALSCALE:GREGORIAN
METHOD:PUBLISH
X-ORIGINAL-URL:https://arrowheadsoccer.com
X-WR-CALDESC:Events for Arrowhead Youth Soccer Association
REFRESH-INTERVAL;VALUE=DURATION:PT1H
X-Robots-Tag:noindex
X-PUBLISHED-TTL:PT1H
BEGIN:VTIMEZONE
TZID:America/Chicago
BEGIN:DAYLIGHT
TZOFFSETFROM:-0600
TZOFFSETTO:-0500
TZNAME:CDT
DTSTART:20190310T080000
END:DAYLIGHT
BEGIN:STANDARD
TZOFFSETFROM:-0500
TZOFFSETTO:-0600
TZNAME:CST
DTSTART:20191103T070000
END:STANDARD
BEGIN:DAYLIGHT
TZOFFSETFROM:-0600
TZOFFSETTO:-0500
TZNAME:CDT
DTSTART:20200308T080000
END:DAYLIGHT
BEGIN:STANDARD
TZOFFSETFROM:-0500
TZOFFSETTO:-0600
TZNAME:CST
DTSTART:20201101T070000
END:STANDARD
BEGIN:DAYLIGHT
TZOFFSETFROM:-0600
TZOFFSETTO:-0500
TZNAME:CDT
DTSTART:20210314T080000
END:DAYLIGHT
BEGIN:STANDARD
TZOFFSETFROM:-0500
TZOFFSETTO:-0600
TZNAME:CST
DTSTART:20211107T070000
END:STANDARD
BEGIN:DAYLIGHT
TZOFFSETFROM:-0600
TZOFFSETTO:-0500
TZNAME:CDT
DTSTART:20220313T080000
END:DAYLIGHT
BEGIN:STANDARD
TZOFFSETFROM:-0500
TZOFFSETTO:-0600
TZNAME:CST
DTSTART:20221106T070000
END:STANDARD
BEGIN:DAYLIGHT
TZOFFSETFROM:-0600
TZOFFSETTO:-0500
TZNAME:CDT
DTSTART:20230312T080000
END:DAYLIGHT
BEGIN:STANDARD
TZOFFSETFROM:-0500
TZOFFSETTO:-0600
TZNAME:CST
DTSTART:20231105T070000
END:STANDARD
END:VTIMEZONE
BEGIN:VEVENT
DTSTART;VALUE=DATE:20230223
DTEND;VALUE=DATE:20230224
DTSTAMP:20260422T071902
CREATED:20211101T050031Z
LAST-MODIFIED:20221209T170558Z
UID:3339-1677110400-1677196799@arrowheadsoccer.com
SUMMARY:Winter Little NetBusters Begins!
DESCRIPTION:Click here for more information!\n  \nYou must register in advance for this program.
URL:https://arrowheadsoccer.com/event/winter-little-netbusters-begins/
LOCATION:MN\, United States
CATEGORIES:Home Page Event
ATTACH;FMTTYPE=image/jpeg:https://arrowheadsoccer.com/wp-lib/wp-content/uploads/2017/05/wlnb-13.jpg
END:VEVENT
BEGIN:VEVENT
DTSTART;TZID=America/Chicago:20230208T183000
DTEND;TZID=America/Chicago:20230208T200000
DTSTAMP:20260422T071902
CREATED:20191010T162904Z
LAST-MODIFIED:20221209T170841Z
UID:2896-1675881000-1675886400@arrowheadsoccer.com
SUMMARY:AYSA Annual General Meeting
DESCRIPTION:AYSA holds an annual meeting every February for any and all members to attend. This year\, the event is being held at Wheeler Fieldhouse on February 8\, 2023. \nFor more information and to attend\, please contact Julien Bratek\, AYSA Executive Director\, at julien@arrowheadsoccer.com.
URL:https://arrowheadsoccer.com/event/aysa-annual-general-meeting/
LOCATION:MN\, United States
CATEGORIES:Home Page Event
ATTACH;FMTTYPE=image/jpeg:https://arrowheadsoccer.com/wp-lib/wp-content/uploads/2019/10/AYSAlogo.jpg
ORGANIZER;CN="Arrowhead Youth Soccer":MAILTO:info@arrowheadsoccer.com
END:VEVENT
BEGIN:VEVENT
DTSTART;VALUE=DATE:20230114
DTEND;VALUE=DATE:20230115
DTSTAMP:20260422T071902
CREATED:20210108T060016Z
LAST-MODIFIED:20221209T170457Z
UID:2829-1673654400-1673740799@arrowheadsoccer.com
SUMMARY:Indoor Soccer League Session 2 Begins!
DESCRIPTION:Click here for more information!
URL:https://arrowheadsoccer.com/event/winter-indoor-soccer-begins/
LOCATION:Duluth Downtown YMCA\, 302 W 1st Street\, Duluth\, MN\, 55802\, United States
CATEGORIES:Home Page Event
ATTACH;FMTTYPE=image/png:https://arrowheadsoccer.com/wp-lib/wp-content/uploads/2017/05/indoor.png
ORGANIZER;CN="Arrowhead Youth Soccer":MAILTO:info@arrowheadsoccer.com
END:VEVENT
BEGIN:VEVENT
DTSTART;VALUE=DATE:20221231
DTEND;VALUE=DATE:20230101
DTSTAMP:20260422T071902
CREATED:20191114T172858Z
LAST-MODIFIED:20221209T170639Z
UID:2984-1672444800-1672531199@arrowheadsoccer.com
SUMMARY:Nominations Due for Community Service Award
DESCRIPTION:Nominate your coach or club volunteer for AYSA’s Community Service Award! \nClick here to learn more about AYSA’s Community Service Award and to download the application. \n  \n 
URL:https://arrowheadsoccer.com/event/nominations-due-for-community-service-award/
CATEGORIES:Home Page Event
ATTACH;FMTTYPE=image/jpeg:https://arrowheadsoccer.com/wp-lib/wp-content/uploads/2019/11/volunteer.jpg
ORGANIZER;CN="Arrowhead Youth Soccer":MAILTO:info@arrowheadsoccer.com
END:VEVENT
BEGIN:VEVENT
DTSTART;VALUE=DATE:20210715
DTEND;VALUE=DATE:20210716
DTSTAMP:20260422T071902
CREATED:20210709T165044Z
LAST-MODIFIED:20210709T165226Z
UID:3828-1626307200-1626393599@arrowheadsoccer.com
SUMMARY:Virtual Fall Coaches Meetings
DESCRIPTION:Click below for all the information for packet pick-up on July 14 and virtual coaches meetings on July 15. \nhttps://arrowheadsoccer.com/fallcoachesmeeting/
URL:https://arrowheadsoccer.com/event/virtual-fall-coaches-meetings/
LOCATION:Virtual\, MN\, United States
CATEGORIES:Home Page Event
ATTACH;FMTTYPE=image/jpeg:https://arrowheadsoccer.com/wp-lib/wp-content/uploads/2019/11/volunteer.jpg
ORGANIZER;CN="Arrowhead Youth Soccer":MAILTO:info@arrowheadsoccer.com
END:VEVENT
BEGIN:VEVENT
DTSTART;VALUE=DATE:20200228
DTEND;VALUE=DATE:20200229
DTSTAMP:20260422T071902
CREATED:20191231T182946Z
LAST-MODIFIED:20191231T183221Z
UID:3019-1582848000-1582934399@arrowheadsoccer.com
SUMMARY:College Scholarship Applications Due
DESCRIPTION:Click here for more information.
URL:https://arrowheadsoccer.com/event/college-scholarship-applications-due/
LOCATION:Wheeler Fieldhouse\, 3501 Grand Ave\, Duluth\, MN\, 55807\, United States
CATEGORIES:Home Page Event
ORGANIZER;CN="Arrowhead Youth Soccer":MAILTO:info@arrowheadsoccer.com
END:VEVENT
BEGIN:VEVENT
DTSTART;VALUE=DATE:20200104
DTEND;VALUE=DATE:20200105
DTSTAMP:20260422T071902
CREATED:20191002T181314Z
LAST-MODIFIED:20191002T192622Z
UID:2825-1578096000-1578182399@arrowheadsoccer.com
SUMMARY:Indoor Soccer League Begins!
DESCRIPTION:Ages 5-9!\nClick here for more information!\n  \nYou must register in advance for this program.
URL:https://arrowheadsoccer.com/event/indoor-soccer-league-begins/
LOCATION:Duluth Downtown YMCA\, 302 W 1st Street\, Duluth\, MN\, 55802\, United States
CATEGORIES:Home Page Event
ATTACH;FMTTYPE=image/png:https://arrowheadsoccer.com/wp-lib/wp-content/uploads/2017/05/indoor.png
ORGANIZER;CN="Arrowhead Youth Soccer":MAILTO:info@arrowheadsoccer.com
END:VEVENT
BEGIN:VEVENT
DTSTART;VALUE=DATE:20191012
DTEND;VALUE=DATE:20191014
DTSTAMP:20260422T071902
CREATED:20190925T203428Z
LAST-MODIFIED:20191002T192535Z
UID:2779-1570838400-1571011199@arrowheadsoccer.com
SUMMARY:U16 Playoffs!
DESCRIPTION:
URL:https://arrowheadsoccer.com/event/u16-playoffs/
CATEGORIES:Home Page Event
ATTACH;FMTTYPE=image/jpeg:https://arrowheadsoccer.com/wp-lib/wp-content/uploads/2017/05/lower-parents.jpg
ORGANIZER;CN="Arrowhead Youth Soccer":MAILTO:info@arrowheadsoccer.com
END:VEVENT
END:VCALENDAR