BEGIN:VCALENDAR
VERSION:2.0
PRODID:-//Arrowhead Youth Soccer Association - ECPv6.15.0.1//NONSGML v1.0//EN
CALSCALE:GREGORIAN
METHOD:PUBLISH
X-WR-CALNAME:Arrowhead Youth Soccer Association
X-ORIGINAL-URL:https://arrowheadsoccer.com
X-WR-CALDESC:Events for Arrowhead Youth Soccer Association
REFRESH-INTERVAL;VALUE=DURATION:PT1H
X-Robots-Tag:noindex
X-PUBLISHED-TTL:PT1H
BEGIN:VTIMEZONE
TZID:America/Chicago
BEGIN:DAYLIGHT
TZOFFSETFROM:-0600
TZOFFSETTO:-0500
TZNAME:CDT
DTSTART:20230312T080000
END:DAYLIGHT
BEGIN:STANDARD
TZOFFSETFROM:-0500
TZOFFSETTO:-0600
TZNAME:CST
DTSTART:20231105T070000
END:STANDARD
END:VTIMEZONE
BEGIN:VEVENT
DTSTART;VALUE=DATE:20230430
DTEND;VALUE=DATE:20230501
DTSTAMP:20260423T061040
CREATED:20230317T205619Z
LAST-MODIFIED:20230317T205619Z
UID:5030-1682812800-1682899199@arrowheadsoccer.com
SUMMARY:College Scholarship Deadline
DESCRIPTION:Click here for more information!
URL:https://arrowheadsoccer.com/event/winter-little-netbusters-begins-2/
LOCATION:MN\, United States
CATEGORIES:Home Page Event
END:VEVENT
BEGIN:VEVENT
DTSTART;TZID=America/Chicago:20230510T190000
DTEND;TZID=America/Chicago:20230510T210000
DTSTAMP:20260423T061040
CREATED:20200313T193545Z
LAST-MODIFIED:20221209T172126Z
UID:3112-1683745200-1683752400@arrowheadsoccer.com
SUMMARY:AYSA Board Meeting
DESCRIPTION:
URL:https://arrowheadsoccer.com/event/aysa-board-meeting1/
CATEGORIES:Board and Other Meetings
ATTACH;FMTTYPE=image/jpeg:https://arrowheadsoccer.com/wp-lib/wp-content/uploads/2019/10/AYSAlogo.jpg
ORGANIZER;CN="Arrowhead Youth Soccer":MAILTO:info@arrowheadsoccer.com
END:VEVENT
BEGIN:VEVENT
DTSTART;TZID=America/Chicago:20230513T090000
DTEND;TZID=America/Chicago:20230513T120000
DTSTAMP:20260423T061040
CREATED:20200313T191104Z
LAST-MODIFIED:20221209T170959Z
UID:3097-1683968400-1683979200@arrowheadsoccer.com
SUMMARY:Striker/Keeper Camp
DESCRIPTION:Register Here
URL:https://arrowheadsoccer.com/event/striker-keeper-camp/
CATEGORIES:Home Page Event
ATTACH;FMTTYPE=image/jpeg:https://arrowheadsoccer.com/wp-lib/wp-content/uploads/2019/06/camps.jpg
ORGANIZER;CN="Arrowhead Youth Soccer":MAILTO:info@arrowheadsoccer.com
END:VEVENT
BEGIN:VEVENT
DTSTART;TZID=America/Chicago:20230514T000000
DTEND;TZID=America/Chicago:20230514T000000
DTSTAMP:20260423T061040
CREATED:20230317T205833Z
LAST-MODIFIED:20230317T205904Z
UID:5033-1684022400-1684022400@arrowheadsoccer.com
SUMMARY:Summer Soccer Frenzy Camp!
DESCRIPTION:More information here.
URL:https://arrowheadsoccer.com/event/striker-keeper-camp-2/
CATEGORIES:Home Page Event
ATTACH;FMTTYPE=image/jpeg:https://arrowheadsoccer.com/wp-lib/wp-content/uploads/2019/05/8.jpg
ORGANIZER;CN="Arrowhead Youth Soccer":MAILTO:info@arrowheadsoccer.com
END:VEVENT
BEGIN:VEVENT
DTSTART;TZID=America/Chicago:20230601T170000
DTEND;TZID=America/Chicago:20230601T170000
DTSTAMP:20260423T061040
CREATED:20200313T191427Z
LAST-MODIFIED:20221209T170920Z
UID:3101-1685638800-1685638800@arrowheadsoccer.com
SUMMARY:June NetBusters Begins!
DESCRIPTION:More Information Here.
URL:https://arrowheadsoccer.com/event/june-little-netbusters-begins-3/
CATEGORIES:Home Page Event
ATTACH;FMTTYPE=image/jpeg:https://arrowheadsoccer.com/wp-lib/wp-content/uploads/2017/05/IMG_5224.jpg
ORGANIZER;CN="Arrowhead Youth Soccer":MAILTO:info@arrowheadsoccer.com
END:VEVENT
BEGIN:VEVENT
DTSTART;TZID=America/Chicago:20230718T170000
DTEND;TZID=America/Chicago:20230718T170000
DTSTAMP:20260423T061040
CREATED:20200313T193750Z
LAST-MODIFIED:20221209T171354Z
UID:3116-1689699600-1689699600@arrowheadsoccer.com
SUMMARY:Cloquet NetBusters Begins!
DESCRIPTION:Click Here to Learn More
URL:https://arrowheadsoccer.com/event/cloquet-netbusters-begins/
CATEGORIES:Home Page Event
ATTACH;FMTTYPE=image/jpeg:https://arrowheadsoccer.com/wp-lib/wp-content/uploads/2017/05/lnb-june-2.jpg
ORGANIZER;CN="Arrowhead Youth Soccer":MAILTO:info@arrowheadsoccer.com
END:VEVENT
BEGIN:VEVENT
DTSTART;TZID=America/Chicago:20230720T000000
DTEND;TZID=America/Chicago:20230720T170000
DTSTAMP:20260423T061040
CREATED:20200313T193857Z
LAST-MODIFIED:20221209T171235Z
UID:3118-1689811200-1689872400@arrowheadsoccer.com
SUMMARY:Session 3 NetBusters Begins!
DESCRIPTION:Click Here to Learn More
URL:https://arrowheadsoccer.com/event/session3-netbusters/
CATEGORIES:Home Page Event
ATTACH;FMTTYPE=image/jpeg:https://arrowheadsoccer.com/wp-lib/wp-content/uploads/2019/06/lnb-coach.jpg
ORGANIZER;CN="Arrowhead Youth Soccer":MAILTO:info@arrowheadsoccer.com
END:VEVENT
BEGIN:VEVENT
DTSTART;TZID=America/Chicago:20230723T000000
DTEND;TZID=America/Chicago:20230723T000000
DTSTAMP:20260423T061040
CREATED:20200313T194038Z
LAST-MODIFIED:20221209T171429Z
UID:3120-1690070400-1690070400@arrowheadsoccer.com
SUMMARY:Session 4 NetBusters Begins!
DESCRIPTION:Click Here to Learn More
URL:https://arrowheadsoccer.com/event/session4-netbusters/
CATEGORIES:Home Page Event
ATTACH;FMTTYPE=image/jpeg:https://arrowheadsoccer.com/wp-lib/wp-content/uploads/2017/05/IMG_5224.jpg
ORGANIZER;CN="Arrowhead Youth Soccer":MAILTO:info@arrowheadsoccer.com
END:VEVENT
BEGIN:VEVENT
DTSTART;VALUE=DATE:20230724
DTEND;VALUE=DATE:20230726
DTSTAMP:20260423T061040
CREATED:20200313T191211Z
LAST-MODIFIED:20221209T171309Z
UID:3099-1690156800-1690329599@arrowheadsoccer.com
SUMMARY:GND Skills Camp
DESCRIPTION:
URL:https://arrowheadsoccer.com/event/gnd-skills-camp/
CATEGORIES:Home Page Event
ATTACH;FMTTYPE=image/jpeg:https://arrowheadsoccer.com/wp-lib/wp-content/uploads/2019/06/camps.jpg
ORGANIZER;CN="Arrowhead Youth Soccer":MAILTO:info@arrowheadsoccer.com
END:VEVENT
BEGIN:VEVENT
DTSTART;VALUE=DATE:20230801
DTEND;VALUE=DATE:20230802
DTSTAMP:20260423T061040
CREATED:20200313T194240Z
LAST-MODIFIED:20221209T171122Z
UID:3122-1690848000-1690934399@arrowheadsoccer.com
SUMMARY:Fall Soccer Begins (U6-U14)
DESCRIPTION:
URL:https://arrowheadsoccer.com/event/fall-soccer-begins-u6-u14/
CATEGORIES:Home Page Event
ATTACH;FMTTYPE=image/png:https://arrowheadsoccer.com/wp-lib/wp-content/uploads/2017/05/summer-league.png
ORGANIZER;CN="Arrowhead Youth Soccer":MAILTO:info@arrowheadsoccer.com
END:VEVENT
BEGIN:VEVENT
DTSTART;TZID=America/Chicago:20231011T183000
DTEND;TZID=America/Chicago:20231011T200000
DTSTAMP:20260423T061040
CREATED:20200313T193615Z
LAST-MODIFIED:20231011T211648Z
UID:3114-1697049000-1697054400@arrowheadsoccer.com
SUMMARY:AYSA Board Meeting
DESCRIPTION:
URL:https://arrowheadsoccer.com/event/aysa-board-meeting1-2/
CATEGORIES:Board and Other Meetings
ATTACH;FMTTYPE=image/jpeg:https://arrowheadsoccer.com/wp-lib/wp-content/uploads/2019/10/AYSAlogo.jpg
ORGANIZER;CN="Arrowhead Youth Soccer":MAILTO:info@arrowheadsoccer.com
END:VEVENT
END:VCALENDAR